BEGIN:VCALENDAR
VERSION:2.0
PRODID:-//hacksw/handcal//NONSGML v1.0//EN
BEGIN:VEVENT
UID:tournoi15095@badiste.fr
DTSTAMP:20260424T100315Z
DTSTART;VALUE=DATE:20251027
DTEND;VALUE=DATE:20251101
DESCRIPTION: http://badiste.fr
LOCATION:la Fontonne 2 chemin des freres Garbero  06600 ANTIBES
SUMMARY:stage d'octobre
END:VEVENT
END:VCALENDAR