BEGIN:VCALENDAR
VERSION:2.0
PRODID:-//hacksw/handcal//NONSGML v1.0//EN
BEGIN:VEVENT
UID:tournoi15093@badiste.fr
DTSTAMP:20260424T093641Z
DTSTART;VALUE=DATE:20250428
DTEND;VALUE=DATE:20250430
DESCRIPTION: http://badiste.fr
LOCATION:Gymnase Jean Mollier 21 Rue Dr Dolard  69100 VILLEURBANNE
SUMMARY:Stage d'Avril
END:VEVENT
END:VCALENDAR