BEGIN:VCALENDAR
VERSION:2.0
PRODID:-//hacksw/handcal//NONSGML v1.0//EN
BEGIN:VEVENT
UID:tournoi15067@badiste.fr
DTSTAMP:20260424T094459Z
DTSTART;VALUE=DATE:20241116
DTEND;VALUE=DATE:20241117
DESCRIPTION: http://badiste.fr
LOCATION:Gymnase Jean Mollier 21 Rue Dr Dolard  69100 VILLEURBANNE
SUMMARY:Stage de Novembre
END:VEVENT
END:VCALENDAR