BEGIN:VCALENDAR
VERSION:2.0
PRODID:-//hacksw/handcal//NONSGML v1.0//EN
BEGIN:VEVENT
UID:tournoi15066@badiste.fr
DTSTAMP:20260424T093640Z
DTSTART;VALUE=DATE:20241021
DTEND;VALUE=DATE:20241023
DESCRIPTION: http://badiste.fr
LOCATION:Gymnase Jean Mollier 21 Rue Dr Dolard  69100 VILLEURBANNE
SUMMARY:Stage de la Toussaint 2024
END:VEVENT
END:VCALENDAR