BEGIN:VCALENDAR
VERSION:2.0
PRODID:-//hacksw/handcal//NONSGML v1.0//EN
BEGIN:VEVENT
UID:tournoi15035@badiste.fr
DTSTAMP:20260424T094448Z
DTSTART;VALUE=DATE:20240921
DTEND;VALUE=DATE:20240923
DESCRIPTION: http://badiste.fr
LOCATION:Gymnase des Iris 80 Rue Pierre Voyant  69100 VILLEURBANNE
SUMMARY:Stage de début de saison
END:VEVENT
END:VCALENDAR