BEGIN:VCALENDAR
VERSION:2.0
PRODID:-//hacksw/handcal//NONSGML v1.0//EN
BEGIN:VEVENT
UID:tournoi15012@badiste.fr
DTSTAMP:20260424T094458Z
DTSTART;VALUE=DATE:20240826
DTEND;VALUE=DATE:20240831
DESCRIPTION: http://badiste.fr
LOCATION:C. BESSON CHEM DES CANEBIERS  06800 CAGNES-SUR-MER
SUMMARY:STAGE DE RENTREE
END:VEVENT
END:VCALENDAR