BEGIN:VCALENDAR
VERSION:2.0
PRODID:-//hacksw/handcal//NONSGML v1.0//EN
BEGIN:VEVENT
UID:tournoi14999@badiste.fr
DTSTAMP:20260424T095343Z
DTSTART;VALUE=DATE:20240429
DTEND;VALUE=DATE:20240504
DESCRIPTION: http://badiste.fr
LOCATION:gymnase de la Fontonne 2 chemin des freres Garbero  06600 ANTIBES
SUMMARY:Stage de printemps Antibes
END:VEVENT
END:VCALENDAR