BEGIN:VCALENDAR
VERSION:2.0
PRODID:-//hacksw/handcal//NONSGML v1.0//EN
BEGIN:VEVENT
UID:tournoi14962@badiste.fr
DTSTAMP:20260424T100315Z
DTSTART;VALUE=DATE:20240306
DTEND;VALUE=DATE:20240307
DESCRIPTION: http://badiste.fr
LOCATION:Gymnase de la Fontonne Chemin des Frères Garbero  06600 ANTIBES
SUMMARY:Stage adulte Antibes
END:VEVENT
END:VCALENDAR