BEGIN:VCALENDAR
VERSION:2.0
PRODID:-//hacksw/handcal//NONSGML v1.0//EN
BEGIN:VEVENT
UID:tournoi14927@badiste.fr
DTSTAMP:20260424T093641Z
DTSTART;VALUE=DATE:20231209
DTEND;VALUE=DATE:20231210
DESCRIPTION: http://badiste.fr
LOCATION:Gymnase des Iris 80 Rue Pierre Voyant  69100 VILLEURBANNE
SUMMARY:Stage du Samedi 9 Décembre
END:VEVENT
END:VCALENDAR