BEGIN:VCALENDAR
VERSION:2.0
PRODID:-//hacksw/handcal//NONSGML v1.0//EN
BEGIN:VEVENT
UID:tournoi14594@badiste.fr
DTSTAMP:20260424T095343Z
DTSTART;VALUE=DATE:20230312
DTEND;VALUE=DATE:20230313
DESCRIPTION: http://badiste.fr
LOCATION:la Fontonne 2 chemin des freres Garbero  06600 Antibes
SUMMARY:Stage de printemps
END:VEVENT
END:VCALENDAR