BEGIN:VCALENDAR
VERSION:2.0
PRODID:-//hacksw/handcal//NONSGML v1.0//EN
BEGIN:VEVENT
UID:tournoi14377@badiste.fr
DTSTAMP:20260424T094457Z
DTSTART;VALUE=DATE:20221203
DTEND;VALUE=DATE:20221204
DESCRIPTION: http://badiste.fr
LOCATION:Gymnase des Iris 80 Rue Pierre Voyant  69100 Villeurbanne
SUMMARY:Stage de Décembre
END:VEVENT
END:VCALENDAR