BEGIN:VCALENDAR
VERSION:2.0
PRODID:-//hacksw/handcal//NONSGML v1.0//EN
BEGIN:VEVENT
UID:tournoi14255@badiste.fr
DTSTAMP:20260424T093640Z
DTSTART;VALUE=DATE:20230417
DTEND;VALUE=DATE:20230422
DESCRIPTION: http://badiste.fr
LOCATION:C. Besson Chemin des Canebiers  06800 Cagnes-sur-Mer
SUMMARY:Stage Pâques
END:VEVENT
END:VCALENDAR