BEGIN:VCALENDAR
VERSION:2.0
PRODID:-//hacksw/handcal//NONSGML v1.0//EN
BEGIN:VEVENT
UID:tournoi14200@badiste.fr
DTSTAMP:20260424T094457Z
DTSTART;VALUE=DATE:20221024
DTEND;VALUE=DATE:20221026
DESCRIPTION: http://badiste.fr
LOCATION:Gymnase Alexandra David Néel 100 Rue Francis de Pressensé  69100 Villeurbanne
SUMMARY:Stage de Badminton durant les vacances (Toussaint)
END:VEVENT
END:VCALENDAR