BEGIN:VCALENDAR
VERSION:2.0
PRODID:-//hacksw/handcal//NONSGML v1.0//EN
BEGIN:VEVENT
UID:tournoi14099@badiste.fr
DTSTAMP:20260424T094458Z
DTSTART;VALUE=DATE:20221002
DTEND;VALUE=DATE:20221003
DESCRIPTION: http://badiste.fr
LOCATION:Gymnase Colette Besson 40 Chemin des canebiers  06800 Cagnes-sur-Mer
SUMMARY:Le Tournoi Adulte Mixte de Cagnes
END:VEVENT
END:VCALENDAR