BEGIN:VCALENDAR
VERSION:2.0
PRODID:-//hacksw/handcal//NONSGML v1.0//EN
BEGIN:VEVENT
UID:tournoi14098@badiste.fr
DTSTAMP:20260424T094458Z
DTSTART;VALUE=DATE:20221105
DTEND;VALUE=DATE:20221107
DESCRIPTION: http://badiste.fr
LOCATION:Colette Besson   06800 Cagnes-sur-Mer
SUMMARY:6ème Tournoi des Dauphins
END:VEVENT
END:VCALENDAR